BEGIN:VCALENDAR
PRODID:-//kirchenweb.ch gmbh//veranstaltungsausgabe v2.0//DE
VERSION:2.0
METHOD:PUBLISH
BEGIN:VEVENT
DTSTART:20261108T090000Z
DTEND:20261108T100000Z
LOCATION:Otmarkirche\, Arneggerstrasse 2\, 9204 Andwil
TRANSP:OPAQUE
SEQUENCE:0
UID:43080-veranstaltung@seelsorgeeinheitgossau.ch
DTSTAMP:20260130T081949Z
DESCRIPTION:Kontakt: CK\n\nWeitere Infos:
  https://www.seelsorgeeinheitgossau.ch/veranstaltung/43080
SUMMARY:Familiengottesdienst\, Sonntag der Völker in der Otmarkirche
PRIORITY:5
X-MICROSOFT-CDO-IMPORTANCE:1
CLASS:PUBLIC
END:VEVENT
END:VCALENDAR
