BEGIN:VCALENDAR
PRODID:-//kirchenweb.ch gmbh//veranstaltungsausgabe v2.0//DE
VERSION:2.0
METHOD:PUBLISH
BEGIN:VEVENT
DTSTART:20261129T090000Z
DTEND:20261129T100000Z
LOCATION:Otmarkirche\, Arneggerstrasse 2\, 9204 Andwil
TRANSP:OPAQUE
SEQUENCE:0
UID:43083-veranstaltung@seelsorgeeinheitgossau.ch
DTSTAMP:20260204T094428Z
DESCRIPTION:Kontakt: CK\n\nWeitere Infos:
  https://www.seelsorgeeinheitgossau.ch/veranstaltung/43083
SUMMARY:Familiengottesdienst mit den Erstkommunionkindern in der
  Otmarkirche
PRIORITY:5
X-MICROSOFT-CDO-IMPORTANCE:1
CLASS:PUBLIC
END:VEVENT
END:VCALENDAR
