BEGIN:VCALENDAR
PRODID:-//kirchenweb.ch gmbh//veranstaltungsausgabe v2.0//DE
VERSION:2.0
METHOD:PUBLISH
BEGIN:VEVENT
DTSTART:20261115T090000Z
DTEND:20261115T100000Z
LOCATION:Besammlung in der Otmarkirche\, \,
TRANSP:OPAQUE
SEQUENCE:0
UID:43105-veranstaltung@seelsorgeeinheitgossau.ch
DTSTAMP:20250826T080230Z
DESCRIPTION:Kontakt: Sandra Caglia-Keller\n\nWeitere Infos:
  https://www.seelsorgeeinheitgossau.ch/veranstaltung/43105
SUMMARY:Kindergottesdienst im Otmarzentrum
PRIORITY:5
X-MICROSOFT-CDO-IMPORTANCE:1
CLASS:PUBLIC
END:VEVENT
END:VCALENDAR
