BEGIN:VCALENDAR
PRODID:-//kirchenweb.ch gmbh//veranstaltungsausgabe v2.0//DE
VERSION:2.0
METHOD:PUBLISH
BEGIN:VEVENT
DTSTART:20261206T090000Z
DTEND:20261206T100000Z
LOCATION:Besammlung in der Otmarkirche\, \,
TRANSP:OPAQUE
SEQUENCE:0
UID:43106-veranstaltung@seelsorgeeinheitgossau.ch
DTSTAMP:20240404T092601Z
DESCRIPTION:Kontakt: Sandra Caglia-Keller\n\nWeitere Infos:
  https://www.seelsorgeeinheitgossau.ch/veranstaltung/43106
SUMMARY:Kindergottesdienst im Otmarzentrum
PRIORITY:5
X-MICROSOFT-CDO-IMPORTANCE:1
CLASS:PUBLIC
END:VEVENT
END:VCALENDAR
