BEGIN:VCALENDAR
PRODID:-//kirchenweb.ch gmbh//veranstaltungsausgabe v2.0//DE
VERSION:2.0
METHOD:PUBLISH
BEGIN:VEVENT
DTSTART:20260829T080000Z
DTEND:20260829T090000Z
LOCATION:Otmarkirche\, Arneggerstrasse 2\, 9204 Andwil
TRANSP:OPAQUE
SEQUENCE:0
UID:43110-veranstaltung@seelsorgeeinheitgossau.ch
DTSTAMP:20240404T093109Z
DESCRIPTION:Kontakt: admin.andwil@seelsorgeeinheitgossau.ch\n\nWeitere
  Infos: https://www.seelsorgeeinheitgossau.ch/veranstaltung/43110
SUMMARY:Fiire mit de Chline in der Otmarkirche
PRIORITY:5
X-MICROSOFT-CDO-IMPORTANCE:1
CLASS:PUBLIC
END:VEVENT
END:VCALENDAR
