BEGIN:VCALENDAR
PRODID:-//kirchenweb.ch gmbh//veranstaltungsausgabe v2.0//DE
VERSION:2.0
METHOD:PUBLISH
BEGIN:VEVENT
DTSTART:20270904T080000Z
DTEND:20270904T090000Z
LOCATION:Otmarkirche\, Arneggerstrasse 2\, 9204 Andwil
TRANSP:OPAQUE
SEQUENCE:0
UID:47296-veranstaltung@seelsorgeeinheitgossau.ch
DTSTAMP:20250227T090101Z
DESCRIPTION:Kontakt: admin.andwil@seelsorgeeinheitgossau.ch\n\nWeitere
  Infos: https://www.seelsorgeeinheitgossau.ch/veranstaltung/47296
SUMMARY:Fiire mit de Chline in der Otmarkirche
PRIORITY:5
X-MICROSOFT-CDO-IMPORTANCE:1
CLASS:PUBLIC
END:VEVENT
END:VCALENDAR
