BEGIN:VCALENDAR
PRODID:-//kirchenweb.ch gmbh//veranstaltungsausgabe v2.0//DE
VERSION:2.0
METHOD:PUBLISH
BEGIN:VEVENT
DTSTART:20271205T090000Z
DTEND:20271205T100000Z
LOCATION:Besammlung in der Otmarkirche\, \,
TRANSP:OPAQUE
SEQUENCE:0
UID:47303-veranstaltung@seelsorgeeinheitgossau.ch
DTSTAMP:20250227T090222Z
DESCRIPTION:Kontakt: Sandra Caglia-Keller\n\nWeitere Infos:
  https://www.seelsorgeeinheitgossau.ch/veranstaltung/47303
SUMMARY:Kindergottesdienst im Otmarzentrum
PRIORITY:5
X-MICROSOFT-CDO-IMPORTANCE:1
CLASS:PUBLIC
END:VEVENT
END:VCALENDAR
