BEGIN:VCALENDAR
PRODID:-//kirchenweb.ch gmbh//veranstaltungsausgabe v2.0//DE
VERSION:2.0
METHOD:PUBLISH
BEGIN:VEVENT
DTSTART:20260420T170000Z
DTEND:20260420T180000Z
LOCATION:Otmarkirche\, Arneggerstrasse 2\, 9204 Andwil
TRANSP:OPAQUE
SEQUENCE:0
UID:49490-veranstaltung@seelsorgeeinheitgossau.ch
DTSTAMP:20251014T074645Z
DESCRIPTION:Kontakt: admin.andwil@seelsorgeeinheitgossau.ch\n\nWeitere
  Infos: https://www.seelsorgeeinheitgossau.ch/veranstaltung/49490
SUMMARY:Eucharistische Anbetung in der Otmarkirche
PRIORITY:5
X-MICROSOFT-CDO-IMPORTANCE:1
CLASS:PUBLIC
END:VEVENT
END:VCALENDAR
