BEGIN:VCALENDAR
PRODID:-//kirchenweb.ch gmbh//veranstaltungsausgabe v2.0//DE
VERSION:2.0
METHOD:PUBLISH
BEGIN:VEVENT
DTSTART:20260427T160000Z
DTEND:20260427T170000Z
LOCATION:Otmarkirche\, Arneggerstrasse 2\, 9204 Andwil
TRANSP:OPAQUE
SEQUENCE:0
UID:50668-veranstaltung@seelsorgeeinheitgossau.ch
DTSTAMP:20260206T073048Z
DESCRIPTION:Kontakt: Cornel Keller\n\nWeitere Infos:
  https://www.seelsorgeeinheitgossau.ch/veranstaltung/50668
SUMMARY:Andacht mit viel Kirchenmusik
PRIORITY:5
X-MICROSOFT-CDO-IMPORTANCE:1
CLASS:PUBLIC
END:VEVENT
END:VCALENDAR
